View In:
ArcGIS JavaScript
ArcGIS Online Map Viewer
ArcGIS Earth
ArcMap
View Footprint In:
ArcGIS Online Map Viewer
Service Description: Launch Pointe Aerial flown on June 23, 2017
Name: Imagery/Launch_Pointe_062317_IS
Description: Launch Pointe Aerial flown on June 23, 2017
Single Fused Map Cache: false
Extent:
XMin: 6219118.38915
YMin: 2190264.08839
XMax: 6221151.89082
YMax: 2192182.3843
Spatial Reference: 102646
(2230)
Initial Extent:
XMin: 6219118.38915
YMin: 2190264.08839
XMax: 6221151.89082
YMax: 2192182.3843
Spatial Reference: 102646
(2230)
Full Extent:
XMin: 6219118.38915
YMin: 2190264.08839
XMax: 6221151.89082
YMax: 2192182.3843
Spatial Reference: 102646
(2230)
Pixel Size X: 0.0666700000000047
Pixel Size Y: 0.06666999999999547
Band Count: 4
Pixel Type: U8
RasterFunction Infos: {"rasterFunctionInfos": [{
"name": "None",
"description": "",
"help": ""
}]}
Mensuration Capabilities: Basic
Has Histograms: true
Has Colormap: false
Has Multi Dimensions : false
Rendering Rule:
Min Scale: 0
Max Scale: 0
Copyright Text:
Service Data Type: esriImageServiceDataTypeGeneric
Min Values: 1, 1, 1, 255
Max Values: 255, 255, 255, 255
Mean Values: 115.38859350212593, 118.43565739790547, 106.172576509087, 255
Standard Deviation Values: 56.70871272954291, 51.50306709850544, 50.061622774754376, 0
Object ID Field:
Fields:
None
Default Mosaic Method: Center
Allowed Mosaic Methods:
SortField:
SortValue: null
Mosaic Operator: First
Default Compression Quality: 75
Default Resampling Method: Bilinear
Max Record Count: null
Max Image Height: 4100
Max Image Width: 15000
Max Download Image Count: null
Max Mosaic Image Count: null
Allow Raster Function: true
Allow Compute TiePoints: false
Supports Statistics: false
Supports Advanced Queries: false
Use StandardizedQueries: true
Raster Type Infos:
Name: Raster Dataset
Description: Supports all ArcGIS Raster Datasets
Help:
Has Raster Attribute Table: false
Edit Fields Info: null
Ownership Based AccessControl For Rasters: null
Child Resources:
Info
Histograms
Key Properties
Legend
rasterFunctionInfos
Supported Operations:
Export Image
Identify
Measure
Compute Histograms
Compute Statistics Histograms
Get Samples
Compute Class Statistics
Query Boundary
Compute Pixel Location
Validate
Project