{
 "currentVersion": 10.8,
 "serviceDescription": "Launch Pointe Aerial flown on June 23, 2017",
 "name": "Imagery/Launch_Pointe_062317_IS",
 "description": "Launch Pointe Aerial flown on June 23, 2017",
 "extent": {
  "xmin": 6219118.38915,
  "ymin": 2190264.08839,
  "xmax": 6221151.89082,
  "ymax": 2192182.3843,
  "spatialReference": {
   "wkid": 102646,
   "latestWkid": 2230
  }
 },
 "initialExtent": {
  "xmin": 6219118.38915,
  "ymin": 2190264.08839,
  "xmax": 6221151.89082,
  "ymax": 2192182.3843,
  "spatialReference": {
   "wkid": 102646,
   "latestWkid": 2230
  }
 },
 "fullExtent": {
  "xmin": 6219118.38915,
  "ymin": 2190264.08839,
  "xmax": 6221151.89082,
  "ymax": 2192182.3843,
  "spatialReference": {
   "wkid": 102646,
   "latestWkid": 2230
  }
 },
 "pixelSizeX": 0.0666700000000047,
 "pixelSizeY": 0.06666999999999547,
 "bandCount": 4,
 "pixelType": "U8",
 "minPixelSize": 0,
 "maxPixelSize": 0,
 "copyrightText": "",
 "serviceDataType": "esriImageServiceDataTypeGeneric",
 "minValues": [
  1,
  1,
  1,
  255
 ],
 "maxValues": [
  255,
  255,
  255,
  255
 ],
 "meanValues": [
  115.38859350212593,
  118.43565739790547,
  106.172576509087,
  255
 ],
 "stdvValues": [
  56.70871272954291,
  51.50306709850544,
  50.061622774754376,
  0
 ],
 "objectIdField": "",
 "fields": [],
 "capabilities": "Image,Metadata,Mensuration",
 "defaultMosaicMethod": "Center",
 "allowedMosaicMethods": "",
 "sortField": "",
 "sortValue": null,
 "sortAscending": true,
 "mosaicOperator": "First",
 "defaultCompressionQuality": 75,
 "defaultResamplingMethod": "Bilinear",
 "maxImageHeight": 4100,
 "maxImageWidth": 15000,
 "allowRasterFunction": true,
 "rasterFunctionInfos": [
  {
   "name": "None",
   "description": "",
   "help": ""
  }
 ],
 "rasterTypeInfos": [
  {
   "name": "Raster Dataset",
   "description": "Supports all ArcGIS Raster Datasets",
   "help": ""
  }
 ],
 "mensurationCapabilities": "Basic",
 "hasHistograms": true,
 "hasColormap": false,
 "hasRasterAttributeTable": false,
 "minScale": 0,
 "maxScale": 0,
 "exportTilesAllowed": false,
 "hasMultidimensions": false,
 "supportsStatistics": false,
 "supportsAdvancedQueries": false,
 "editFieldsInfo": null,
 "ownershipBasedAccessControlForRasters": null,
 "allowComputeTiePoints": false,
 "useStandardizedQueries": true,
 "advancedQueryCapabilities": {
  "useStandardizedQueries": true,
  "supportsStatistics": false,
  "supportsOrderBy": false,
  "supportsDistinct": false,
  "supportsPagination": false
 },
 "spatialReference": {
  "wkid": 102646,
  "latestWkid": 2230
 }
}
